BEGIN:VCALENDAR
VERSION:2.0
PRODID:-//Medserv Healthcare Solutions - ECPv6.0.3//NONSGML v1.0//EN
CALSCALE:GREGORIAN
METHOD:PUBLISH
X-WR-CALNAME:Medserv Healthcare Solutions
X-ORIGINAL-URL:https://medservhealthcare.com
X-WR-CALDESC:Events for Medserv Healthcare Solutions
REFRESH-INTERVAL;VALUE=DURATION:PT1H
X-Robots-Tag:noindex
X-PUBLISHED-TTL:PT1H
BEGIN:VTIMEZONE
TZID:America/New_York
BEGIN:DAYLIGHT
TZOFFSETFROM:-0500
TZOFFSETTO:-0400
TZNAME:EDT
DTSTART:20260308T070000
END:DAYLIGHT
BEGIN:STANDARD
TZOFFSETFROM:-0400
TZOFFSETTO:-0500
TZNAME:EST
DTSTART:20261101T060000
END:STANDARD
END:VTIMEZONE
BEGIN:VEVENT
DTSTART;TZID=America/New_York:20260421T100000
DTEND;TZID=America/New_York:20260421T120000
DTSTAMP:20260421T092747
CREATED:20260321T230448Z
LAST-MODIFIED:20260321T230448Z
UID:10001096-1776765600-1776772800@medservhealthcare.com
SUMMARY:AHA BLS Provider RENEWAL - South Brunswick
DESCRIPTION:2025 guidelines update and training  \n\nThis is an AHA BLS Provider Renewal Course. \nStudents must have a valid BLS Provider certification that is about to expire.\nMust provide proof of prior and current BLS Certification at the class.\nThe class will be refresher is skills as per 2025 AHA Guidelines and a Team Dynamics practical skills test.\nThis course has a test that needs a mandatory 84% score to pass.
URL:https://medservhealthcare.com/event/aha-bls-provider-renewal-south-brunswick-5/
LOCATION:MEDSERV HEALTHCARE SOLUTIONS – South Brunswick\, 4250 US 1 STE 119\, MONMOUTH JUNCTION\, NJ\, 08852\, United States
CATEGORIES:CPR Training
END:VEVENT
END:VCALENDAR